BEGIN:VCALENDAR
VERSION:2.0
PRODID:PRODID:-//https://termine.blut.at///Terminsuche
CALSCALE:GREGORIAN
METHOD:PUBLISH
X-WR-TIMEZONE:Europe/Vienna
BEGIN:VTIMEZONE
TZID:Europe/Vienna
BEGIN:DAYLIGHT
DTSTART:20260329T030000
TZOFFSETFROM:+0100
TZOFFSETTO:+0200
RRULE:FREQ=YEARLY;BYDAY=-1SU;BYMONTH=3
TZNAME:CEST
END:DAYLIGHT
BEGIN:STANDARD
DTSTART:20261025T020000
TZOFFSETFROM:+0200
TZOFFSETTO:+0100
RRULE:FREQ=YEARLY;BYDAY=-1SU;BYMONTH=10
TZNAME:CET
END:STANDARD
END:VTIMEZONE
BEGIN:VEVENT
DTSTAMP:20260421T213851Z
UID:8605-1
DTSTART:20260605T140000
DTEND:20260605T160000
CREATED:20260408T161511
LOCATION:Feuerwehrhaus\, Bahnstraße\, Betriebsgebiet\, Obj. 5\, 2624 Breit
 enau
STATUS:CONFIRMED
SUMMARY:Blutspende am 05.06.2026
END:VEVENT
BEGIN:VEVENT
DTSTAMP:20260421T213851Z
UID:8605-2
DTSTART:20260605T170000
DTEND:20260605T193000
CREATED:20260408T161511
LOCATION:Feuerwehrhaus\, Bahnstraße\, Betriebsgebiet\, Obj. 5\, 2624 Breit
 enau
STATUS:CONFIRMED
SUMMARY:Blutspende am 05.06.2026
END:VEVENT
END:VCALENDAR
