BEGIN:VCALENDAR
VERSION:2.0
PRODID:PRODID:-//https://termine.blut.at///Terminsuche
CALSCALE:GREGORIAN
METHOD:PUBLISH
X-WR-TIMEZONE:Europe/Vienna
BEGIN:VTIMEZONE
TZID:Europe/Vienna
BEGIN:DAYLIGHT
DTSTART:20260329T030000
TZOFFSETFROM:+0100
TZOFFSETTO:+0200
RRULE:FREQ=YEARLY;BYDAY=-1SU;BYMONTH=3
TZNAME:CEST
END:DAYLIGHT
BEGIN:STANDARD
DTSTART:20261025T020000
TZOFFSETFROM:+0200
TZOFFSETTO:+0100
RRULE:FREQ=YEARLY;BYDAY=-1SU;BYMONTH=10
TZNAME:CET
END:STANDARD
END:VTIMEZONE
BEGIN:VEVENT
DTSTAMP:20260422T080606Z
UID:8668-1
DTSTART:20260620T093000
DTEND:20260620T120000
CREATED:20260408T161527
LOCATION:Feuerwehrhaus\, Florianiplatz 1\, 3632 Bad Traunstein
STATUS:CONFIRMED
SUMMARY:Blutspende am 20.06.2026
END:VEVENT
BEGIN:VEVENT
DTSTAMP:20260422T080606Z
UID:8668-2
DTSTART:20260620T130000
DTEND:20260620T150000
CREATED:20260408T161527
LOCATION:Feuerwehrhaus\, Florianiplatz 1\, 3632 Bad Traunstein
STATUS:CONFIRMED
SUMMARY:Blutspende am 20.06.2026
END:VEVENT
END:VCALENDAR
