BEGIN:VCALENDAR
VERSION:2.0
PRODID:PRODID:-//https://termine.blut.at///Terminsuche
CALSCALE:GREGORIAN
METHOD:PUBLISH
X-WR-TIMEZONE:Europe/Vienna
BEGIN:VTIMEZONE
TZID:Europe/Vienna
BEGIN:DAYLIGHT
DTSTART:20260329T030000
TZOFFSETFROM:+0100
TZOFFSETTO:+0200
RRULE:FREQ=YEARLY;BYDAY=-1SU;BYMONTH=3
TZNAME:CEST
END:DAYLIGHT
BEGIN:STANDARD
DTSTART:20261025T020000
TZOFFSETFROM:+0200
TZOFFSETTO:+0100
RRULE:FREQ=YEARLY;BYDAY=-1SU;BYMONTH=10
TZNAME:CET
END:STANDARD
END:VTIMEZONE
BEGIN:VEVENT
DTSTAMP:20260420T184037Z
UID:8463-1
DTSTART:20260515T150000
DTEND:20260515T190000
CREATED:20260401T113400
LOCATION:Rosenhalle\, Schichenauerstraße 6\, 8083 St. Stefan im Rosental
STATUS:CONFIRMED
SUMMARY:Blutspende am 15.05.2026
END:VEVENT
END:VCALENDAR
