BEGIN:VCALENDAR
VERSION:2.0
PRODID:PRODID:-//https://termine.blut.at///Terminsuche
CALSCALE:GREGORIAN
METHOD:PUBLISH
X-WR-TIMEZONE:Europe/Vienna
BEGIN:VTIMEZONE
TZID:Europe/Vienna
BEGIN:DAYLIGHT
DTSTART:20260329T030000
TZOFFSETFROM:+0100
TZOFFSETTO:+0200
RRULE:FREQ=YEARLY;BYDAY=-1SU;BYMONTH=3
TZNAME:CEST
END:DAYLIGHT
BEGIN:STANDARD
DTSTART:20261025T020000
TZOFFSETFROM:+0200
TZOFFSETTO:+0100
RRULE:FREQ=YEARLY;BYDAY=-1SU;BYMONTH=10
TZNAME:CET
END:STANDARD
END:VTIMEZONE
BEGIN:VEVENT
DTSTAMP:20260420T064913Z
UID:8443-1
DTSTART:20260507T160000
DTEND:20260507T190000
CREATED:20260401T113358
LOCATION:Seminarraum 8\, Herrgottwiesgasse 281\, 8055 Graz\, RK-Landeszentr
 ale
STATUS:CONFIRMED
SUMMARY:Blutspende am 07.05.2026
END:VEVENT
END:VCALENDAR
