BEGIN:VCALENDAR
VERSION:2.0
PRODID:PRODID:-//https://termine.blut.at///Terminsuche
CALSCALE:GREGORIAN
METHOD:PUBLISH
X-WR-TIMEZONE:Europe/Vienna
BEGIN:VTIMEZONE
TZID:Europe/Vienna
BEGIN:DAYLIGHT
DTSTART:20260329T030000
TZOFFSETFROM:+0100
TZOFFSETTO:+0200
RRULE:FREQ=YEARLY;BYDAY=-1SU;BYMONTH=3
TZNAME:CEST
END:DAYLIGHT
BEGIN:STANDARD
DTSTART:20261025T020000
TZOFFSETFROM:+0200
TZOFFSETTO:+0100
RRULE:FREQ=YEARLY;BYDAY=-1SU;BYMONTH=10
TZNAME:CET
END:STANDARD
END:VTIMEZONE
BEGIN:VEVENT
DTSTAMP:20260420T120957Z
UID:8755-1
DTSTART:20260511T153000
DTEND:20260511T200000
CREATED:20260413T111356
LOCATION:Kulturhaus\, St. Martiner Straße 3\, 9581 Ledenitzen
STATUS:CONFIRMED
SUMMARY:Blutspende am 11.05.2026
END:VEVENT
END:VCALENDAR
