BEGIN:VCALENDAR
VERSION:2.0
PRODID:PRODID:-//https://termine.blut.at///Terminsuche
CALSCALE:GREGORIAN
METHOD:PUBLISH
X-WR-TIMEZONE:Europe/Vienna
BEGIN:VTIMEZONE
TZID:Europe/Vienna
BEGIN:DAYLIGHT
DTSTART:20260329T030000
TZOFFSETFROM:+0100
TZOFFSETTO:+0200
RRULE:FREQ=YEARLY;BYDAY=-1SU;BYMONTH=3
TZNAME:CEST
END:DAYLIGHT
BEGIN:STANDARD
DTSTART:20261025T020000
TZOFFSETFROM:+0200
TZOFFSETTO:+0100
RRULE:FREQ=YEARLY;BYDAY=-1SU;BYMONTH=10
TZNAME:CET
END:STANDARD
END:VTIMEZONE
BEGIN:VEVENT
DTSTAMP:20260422T105628Z
UID:8687-1
DTSTART:20260624T153000
DTEND:20260624T173000
CREATED:20260408T161531
LOCATION:Schüttkasten\, Stillfriederstraße 1b\, 2251 Ebenthal
STATUS:CONFIRMED
SUMMARY:Blutspende am 24.06.2026
END:VEVENT
BEGIN:VEVENT
DTSTAMP:20260422T105628Z
UID:8687-2
DTSTART:20260624T183000
DTEND:20260624T203000
CREATED:20260408T161531
LOCATION:Schüttkasten\, Stillfriederstraße 1b\, 2251 Ebenthal
STATUS:CONFIRMED
SUMMARY:Blutspende am 24.06.2026
END:VEVENT
END:VCALENDAR
