BEGIN:VCALENDAR
VERSION:2.0
PRODID:PRODID:-//https://termine.blut.at///Terminsuche
CALSCALE:GREGORIAN
METHOD:PUBLISH
X-WR-TIMEZONE:Europe/Vienna
BEGIN:VTIMEZONE
TZID:Europe/Vienna
BEGIN:DAYLIGHT
DTSTART:20260329T030000
TZOFFSETFROM:+0100
TZOFFSETTO:+0200
RRULE:FREQ=YEARLY;BYDAY=-1SU;BYMONTH=3
TZNAME:CEST
END:DAYLIGHT
BEGIN:STANDARD
DTSTART:20261025T020000
TZOFFSETFROM:+0200
TZOFFSETTO:+0100
RRULE:FREQ=YEARLY;BYDAY=-1SU;BYMONTH=10
TZNAME:CET
END:STANDARD
END:VTIMEZONE
BEGIN:VEVENT
DTSTAMP:20260421T034158Z
UID:8776-1
DTSTART:20260521T100000
DTEND:20260521T180000
CREATED:20260413T111358
LOCATION:IKEA Klagenfurt\, Ikeaplatz 1\, 9020 Klagenfurt am Wörthersee
STATUS:CONFIRMED
SUMMARY:Blutspende am 21.05.2026
END:VEVENT
END:VCALENDAR
