BEGIN:VCALENDAR
VERSION:2.0
PRODID:PRODID:-//https://termine.blut.at///Terminsuche
CALSCALE:GREGORIAN
METHOD:PUBLISH
X-WR-TIMEZONE:Europe/Vienna
BEGIN:VTIMEZONE
TZID:Europe/Vienna
BEGIN:DAYLIGHT
DTSTART:20260329T030000
TZOFFSETFROM:+0100
TZOFFSETTO:+0200
RRULE:FREQ=YEARLY;BYDAY=-1SU;BYMONTH=3
TZNAME:CEST
END:DAYLIGHT
BEGIN:STANDARD
DTSTART:20261025T020000
TZOFFSETFROM:+0200
TZOFFSETTO:+0100
RRULE:FREQ=YEARLY;BYDAY=-1SU;BYMONTH=10
TZNAME:CET
END:STANDARD
END:VTIMEZONE
BEGIN:VEVENT
DTSTAMP:20260421T163251Z
UID:8427-1
DTSTART:20260531T090000
DTEND:20260531T120000
CREATED:20260331T161508
LOCATION:Blutspendemobil Karl bei der Rotkreuz-Bezirksstelle\, Rot-Kreuz-Ga
 sse 27\, 7100 Neusiedl am See
STATUS:CONFIRMED
SUMMARY:Blutspende am 31.05.2026
END:VEVENT
BEGIN:VEVENT
DTSTAMP:20260421T163251Z
UID:8427-2
DTSTART:20260531T130000
DTEND:20260531T160000
CREATED:20260331T161508
LOCATION:Blutspendemobil Karl bei der Rotkreuz-Bezirksstelle\, Rot-Kreuz-Ga
 sse 27\, 7100 Neusiedl am See
STATUS:CONFIRMED
SUMMARY:Blutspende am 31.05.2026
END:VEVENT
END:VCALENDAR
