BEGIN:VCALENDAR
VERSION:2.0
PRODID:PRODID:-//https://termine.blut.at///Terminsuche
CALSCALE:GREGORIAN
METHOD:PUBLISH
X-WR-TIMEZONE:Europe/Vienna
BEGIN:VTIMEZONE
TZID:Europe/Vienna
BEGIN:DAYLIGHT
DTSTART:20260329T030000
TZOFFSETFROM:+0100
TZOFFSETTO:+0200
RRULE:FREQ=YEARLY;BYDAY=-1SU;BYMONTH=3
TZNAME:CEST
END:DAYLIGHT
BEGIN:STANDARD
DTSTART:20261025T020000
TZOFFSETFROM:+0200
TZOFFSETTO:+0100
RRULE:FREQ=YEARLY;BYDAY=-1SU;BYMONTH=10
TZNAME:CET
END:STANDARD
END:VTIMEZONE
BEGIN:VEVENT
DTSTAMP:20260422T023821Z
UID:8635-1
DTSTART:20260612T140000
DTEND:20260612T153000
CREATED:20260408T161519
LOCATION:Blutspendemobil Karl beim Feuerwehrhaus\, Schlossplatz 4\, 7501 Ro
 tenturm an der Pinka
STATUS:CONFIRMED
SUMMARY:Blutspende am 12.06.2026
END:VEVENT
BEGIN:VEVENT
DTSTAMP:20260422T023821Z
UID:8635-2
DTSTART:20260612T163000
DTEND:20260612T190000
CREATED:20260408T161519
LOCATION:Blutspendemobil Karl beim Feuerwehrhaus\, Schlossplatz 4\, 7501 Ro
 tenturm an der Pinka
STATUS:CONFIRMED
SUMMARY:Blutspende am 12.06.2026
END:VEVENT
END:VCALENDAR
