BEGIN:VCALENDAR
VERSION:2.0
PRODID:PRODID:-//https://termine.blut.at///Terminsuche
CALSCALE:GREGORIAN
METHOD:PUBLISH
X-WR-TIMEZONE:Europe/Vienna
BEGIN:VTIMEZONE
TZID:Europe/Vienna
BEGIN:DAYLIGHT
DTSTART:20260329T030000
TZOFFSETFROM:+0100
TZOFFSETTO:+0200
RRULE:FREQ=YEARLY;BYDAY=-1SU;BYMONTH=3
TZNAME:CEST
END:DAYLIGHT
BEGIN:STANDARD
DTSTART:20261025T020000
TZOFFSETFROM:+0200
TZOFFSETTO:+0100
RRULE:FREQ=YEARLY;BYDAY=-1SU;BYMONTH=10
TZNAME:CET
END:STANDARD
END:VTIMEZONE
BEGIN:VEVENT
DTSTAMP:20260421T015935Z
UID:7474-1
DTSTART:20260521T153000
DTEND:20260521T203000
CREATED:20260204T090051
LOCATION:SGL Composites GmbH Ort i. I.\, Ort im Innkreis 230\, 4974 Ort im 
 Innkreis
STATUS:CONFIRMED
SUMMARY:Blutspende am 21.05.2026
END:VEVENT
END:VCALENDAR
