BEGIN:VCALENDAR
VERSION:2.0
PRODID:PRODID:-//https://termine.blut.at///Terminsuche
CALSCALE:GREGORIAN
METHOD:PUBLISH
X-WR-TIMEZONE:Europe/Vienna
BEGIN:VTIMEZONE
TZID:Europe/Vienna
BEGIN:DAYLIGHT
DTSTART:20260329T030000
TZOFFSETFROM:+0100
TZOFFSETTO:+0200
RRULE:FREQ=YEARLY;BYDAY=-1SU;BYMONTH=3
TZNAME:CEST
END:DAYLIGHT
BEGIN:STANDARD
DTSTART:20261025T020000
TZOFFSETFROM:+0200
TZOFFSETTO:+0100
RRULE:FREQ=YEARLY;BYDAY=-1SU;BYMONTH=10
TZNAME:CET
END:STANDARD
END:VTIMEZONE
BEGIN:VEVENT
DTSTAMP:20260419T123007Z
UID:7796-1
DTSTART:20260426T090000
DTEND:20260426T120000
CREATED:20260218T101538
LOCATION:Blutspendemobil Karl beim Feuerwehrhaus\, Bundesstraße 84\, 7373 
 Piringsdorf
STATUS:CONFIRMED
SUMMARY:Blutspende am 26.04.2026
END:VEVENT
BEGIN:VEVENT
DTSTAMP:20260419T123007Z
UID:7796-2
DTSTART:20260426T130000
DTEND:20260426T150000
CREATED:20260218T101538
LOCATION:Blutspendemobil Karl beim Feuerwehrhaus\, Bundesstraße 84\, 7373 
 Piringsdorf
STATUS:CONFIRMED
SUMMARY:Blutspende am 26.04.2026
END:VEVENT
END:VCALENDAR
