BEGIN:VCALENDAR
VERSION:2.0
PRODID:PRODID:-//https://termine.blut.at///Terminsuche
CALSCALE:GREGORIAN
METHOD:PUBLISH
X-WR-TIMEZONE:Europe/Vienna
BEGIN:VTIMEZONE
TZID:Europe/Vienna
BEGIN:DAYLIGHT
DTSTART:20260329T030000
TZOFFSETFROM:+0100
TZOFFSETTO:+0200
RRULE:FREQ=YEARLY;BYDAY=-1SU;BYMONTH=3
TZNAME:CEST
END:DAYLIGHT
BEGIN:STANDARD
DTSTART:20261025T020000
TZOFFSETFROM:+0200
TZOFFSETTO:+0100
RRULE:FREQ=YEARLY;BYDAY=-1SU;BYMONTH=10
TZNAME:CET
END:STANDARD
END:VTIMEZONE
BEGIN:VEVENT
DTSTAMP:20260423T125314Z
UID:7784-1
DTSTART:20260423T150000
DTEND:20260423T163000
CREATED:20260218T101535
LOCATION:Stadtsaal\, Schlossplatz 1\, 3812 Groß-Siegharts
STATUS:CONFIRMED
SUMMARY:Blutspende am 23.04.2026
END:VEVENT
BEGIN:VEVENT
DTSTAMP:20260423T125314Z
UID:7784-2
DTSTART:20260423T173000
DTEND:20260423T200000
CREATED:20260218T101535
LOCATION:Stadtsaal\, Schlossplatz 1\, 3812 Groß-Siegharts
STATUS:CONFIRMED
SUMMARY:Blutspende am 23.04.2026
END:VEVENT
END:VCALENDAR
